BEGIN:VCALENDAR
VERSION:2.0
PRODID:-//Bright Minds Foundation - ECPv6.15.20//NONSGML v1.0//EN
CALSCALE:GREGORIAN
METHOD:PUBLISH
X-WR-CALNAME:Bright Minds Foundation
X-ORIGINAL-URL:https://brightmindsfoundation.org
X-WR-CALDESC:Events for Bright Minds Foundation
REFRESH-INTERVAL;VALUE=DURATION:PT1H
X-Robots-Tag:noindex
X-PUBLISHED-TTL:PT1H
BEGIN:VTIMEZONE
TZID:America/New_York
BEGIN:DAYLIGHT
TZOFFSETFROM:-0500
TZOFFSETTO:-0400
TZNAME:EDT
DTSTART:20210314T070000
END:DAYLIGHT
BEGIN:STANDARD
TZOFFSETFROM:-0400
TZOFFSETTO:-0500
TZNAME:EST
DTSTART:20211107T060000
END:STANDARD
BEGIN:DAYLIGHT
TZOFFSETFROM:-0500
TZOFFSETTO:-0400
TZNAME:EDT
DTSTART:20220313T070000
END:DAYLIGHT
BEGIN:STANDARD
TZOFFSETFROM:-0400
TZOFFSETTO:-0500
TZNAME:EST
DTSTART:20221106T060000
END:STANDARD
BEGIN:DAYLIGHT
TZOFFSETFROM:-0500
TZOFFSETTO:-0400
TZNAME:EDT
DTSTART:20230312T070000
END:DAYLIGHT
BEGIN:STANDARD
TZOFFSETFROM:-0400
TZOFFSETTO:-0500
TZNAME:EST
DTSTART:20231105T060000
END:STANDARD
BEGIN:DAYLIGHT
TZOFFSETFROM:-0500
TZOFFSETTO:-0400
TZNAME:EDT
DTSTART:20240310T070000
END:DAYLIGHT
BEGIN:STANDARD
TZOFFSETFROM:-0400
TZOFFSETTO:-0500
TZNAME:EST
DTSTART:20241103T060000
END:STANDARD
BEGIN:DAYLIGHT
TZOFFSETFROM:-0500
TZOFFSETTO:-0400
TZNAME:EDT
DTSTART:20250309T070000
END:DAYLIGHT
BEGIN:STANDARD
TZOFFSETFROM:-0400
TZOFFSETTO:-0500
TZNAME:EST
DTSTART:20251102T060000
END:STANDARD
BEGIN:DAYLIGHT
TZOFFSETFROM:-0500
TZOFFSETTO:-0400
TZNAME:EDT
DTSTART:20260308T070000
END:DAYLIGHT
BEGIN:STANDARD
TZOFFSETFROM:-0400
TZOFFSETTO:-0500
TZNAME:EST
DTSTART:20261101T060000
END:STANDARD
BEGIN:DAYLIGHT
TZOFFSETFROM:-0500
TZOFFSETTO:-0400
TZNAME:EDT
DTSTART:20270314T070000
END:DAYLIGHT
BEGIN:STANDARD
TZOFFSETFROM:-0400
TZOFFSETTO:-0500
TZNAME:EST
DTSTART:20271107T060000
END:STANDARD
END:VTIMEZONE
BEGIN:VTIMEZONE
TZID:UTC
BEGIN:STANDARD
TZOFFSETFROM:+0000
TZOFFSETTO:+0000
TZNAME:UTC
DTSTART:20180101T000000
END:STANDARD
END:VTIMEZONE
BEGIN:VEVENT
DTSTART;TZID=America/New_York:20260204T073000
DTEND;TZID=America/New_York:20260204T093000
DTSTAMP:20260423T093403
CREATED:20251211T164417Z
LAST-MODIFIED:20251211T165931Z
UID:26042-1770190200-1770197400@brightmindsfoundation.org
SUMMARY:Breakfast with the Superintendent & HCPSS Showcase
DESCRIPTION:
URL:https://brightmindsfoundation.org/event/breakfast2026/
LOCATION:The Meeting House\, Oakland Mills Interfaith Center\, 5885 Robert Oliver Pl\, Columbia\, MD\, 21045
ATTACH;FMTTYPE=image/jpeg:https://brightmindsfoundation.org/wp-content/uploads/2025/12/Breakfast-with-Superintendent-1280-×-720-1.jpg
ORGANIZER;CN="Bright Minds Foundation":MAILTO:jennifer@brightmindsfoundation.org
END:VEVENT
BEGIN:VEVENT
DTSTART;TZID=America/New_York:20251015T080000
DTEND;TZID=America/New_York:20251015T150000
DTSTAMP:20260423T093403
CREATED:20250318T234539Z
LAST-MODIFIED:20250318T234910Z
UID:25712-1760515200-1760540400@brightmindsfoundation.org
SUMMARY:2025 Bright Minds Golf Classic
DESCRIPTION:Please join us for the 12th annual Bright Minds Golf Classic on Wednesday October 15\, 2025!  \nBright Minds Golf Classic supports the work of Bright Minds Foundation\, the Howard County public schools education foundation. Proceeds support Bright Minds’ programs focused on literacy and kindergarten readiness; removing barriers to learning; college access and student scholarships; and teacher & classroom support. \nREGISTER HERE \nEvent Details\nWhen: Wednesday\, October 15\, 2025\nTime: Driving range opens at 7:30am; shotgun start at 9am\nWhere: Waverly Woods Golf Club\, Marriottsville\, Maryland \n\nWe look forward to seeing you at the 2025 Golf Classic!
URL:https://brightmindsfoundation.org/event/golf-classic-2025/
LOCATION:Waverly Woods Golf Club\, 2100 Warwick Way\, Marriottsville\, MD\, 21104\, United States
ATTACH;FMTTYPE=image/jpeg:https://brightmindsfoundation.org/wp-content/uploads/2024/02/2023-10-11-Bright-Minds-Golf-_V4A9098-scaled-e1709303141374.jpg
ORGANIZER;CN="Bright Minds Foundation":MAILTO:jennifer@brightmindsfoundation.org
END:VEVENT
BEGIN:VEVENT
DTSTART;TZID=America/New_York:20250815T150000
DTEND;TZID=America/New_York:20250815T190000
DTSTAMP:20260423T093403
CREATED:20250810T193847Z
LAST-MODIFIED:20250814T194216Z
UID:25904-1755270000-1755284400@brightmindsfoundation.org
SUMMARY:Stuff the Bus School Supply Drive 2025
DESCRIPTION:
URL:https://brightmindsfoundation.org/event/stuffthebus2025/
LOCATION:UNO Pizzeria & Grill\, 4470 Long Gate Pkwy\, Ellicott City\, MD\, 21043
ATTACH;FMTTYPE=image/png:https://brightmindsfoundation.org/wp-content/uploads/2024/08/Stuff-the-Bus-1.png
ORGANIZER;CN="Bright Minds Foundation":MAILTO:jennifer@brightmindsfoundation.org
END:VEVENT
BEGIN:VEVENT
DTSTART;TZID=America/New_York:20250611T180000
DTEND;TZID=America/New_York:20250611T210000
DTSTAMP:20260423T093403
CREATED:20250318T234546Z
LAST-MODIFIED:20250319T153448Z
UID:25713-1749664800-1749675600@brightmindsfoundation.org
SUMMARY:Bright Minds Bright Futures 2025
DESCRIPTION:
URL:https://brightmindsfoundation.org/event/bright-futures-2025/
LOCATION:10490 Little Patuxent Parkway\, Columbia MD 21044
ATTACH;FMTTYPE=image/png:https://brightmindsfoundation.org/wp-content/uploads/2025/03/June2025-Event-Hero-1280-×-720-px.png
ORGANIZER;CN="Bright Minds Foundation":MAILTO:jennifer@brightmindsfoundation.org
END:VEVENT
BEGIN:VEVENT
DTSTART;TZID=America/New_York:20250128T073000
DTEND;TZID=America/New_York:20250128T093000
DTSTAMP:20260423T093403
CREATED:20240812T222427Z
LAST-MODIFIED:20240913T214412Z
UID:24969-1738049400-1738056600@brightmindsfoundation.org
SUMMARY:Breakfast with the Superintendent & HCPSS Showcase
DESCRIPTION:
URL:https://brightmindsfoundation.org/event/breakfast2024/
LOCATION:The Meeting House\, Oakland Mills Interfaith Center\, 5885 Robert Oliver Pl\, Columbia\, MD\, 21045
ATTACH;FMTTYPE=image/png:https://brightmindsfoundation.org/wp-content/uploads/2024/08/Breakfast-with-Superintendent-4x3-1.png
ORGANIZER;CN="Bright Minds Foundation":MAILTO:jennifer@brightmindsfoundation.org
END:VEVENT
BEGIN:VEVENT
DTSTART;TZID=America/New_York:20241016T080000
DTEND;TZID=America/New_York:20241016T150000
DTSTAMP:20260423T093403
CREATED:20240301T002955Z
LAST-MODIFIED:20240301T142633Z
UID:24154-1729065600-1729090800@brightmindsfoundation.org
SUMMARY:2024 Bright Minds Golf Classic
DESCRIPTION:Please join us for the 11th annual Bright Minds Golf Classic on Wednesday October 16\, 2024!  \nBright Minds Golf Classic supports the work of Bright Minds Foundation\, the Howard County public schools education foundation. Proceeds support Bright Minds’ programs focused on literacy and kindergarten readiness; removing barriers to learning; college access and student scholarships; and teacher & classroom support. \nREGISTER HERE \nEvent Details\nWhen: Wednesday\, October 16\, 2024\nTime: Driving range opens at 7:30am; shotgun start at 9am\nWhere: Waverly Woods Golf Club\, Marriottsville\, Maryland \n\nWe look forward to seeing you at the 2024 Golf Classic!
URL:https://brightmindsfoundation.org/event/golf-classic-2024/
LOCATION:Waverly Woods Golf Club\, 2100 Warwick Way\, Marriottsville\, MD\, 21104\, United States
ATTACH;FMTTYPE=image/jpeg:https://brightmindsfoundation.org/wp-content/uploads/2024/02/2023-10-11-Bright-Minds-Golf-_V4A9098-scaled-e1709303141374.jpg
ORGANIZER;CN="Bright Minds Foundation":MAILTO:jennifer@brightmindsfoundation.org
END:VEVENT
BEGIN:VEVENT
DTSTART;TZID=America/New_York:20240816T140000
DTEND;TZID=America/New_York:20240816T190000
DTSTAMP:20260423T093403
CREATED:20240812T223914Z
LAST-MODIFIED:20240812T224029Z
UID:24973-1723816800-1723834800@brightmindsfoundation.org
SUMMARY:Stuff the Bus School Supply Drive
DESCRIPTION:
URL:https://brightmindsfoundation.org/event/stuffthebus2024/
LOCATION:Walmart\, 3200 N Ridge Rd\, Ellicott City\, MD\, 21043\, United States
ATTACH;FMTTYPE=image/png:https://brightmindsfoundation.org/wp-content/uploads/2024/08/Stuff-the-Bus-1.png
ORGANIZER;CN="Bright Minds Foundation":MAILTO:jennifer@brightmindsfoundation.org
END:VEVENT
BEGIN:VEVENT
DTSTART;TZID=America/New_York:20240506T180000
DTEND;TZID=America/New_York:20240506T203000
DTSTAMP:20260423T093403
CREATED:20240301T001633Z
LAST-MODIFIED:20240301T001735Z
UID:24152-1715018400-1715027400@brightmindsfoundation.org
SUMMARY:Bright Minds Bright Futures 2024
DESCRIPTION:
URL:https://brightmindsfoundation.org/event/bright-futures-2024/
LOCATION:Cured 18th & 21st\, 10980 Grantchester Way\, Columbia\, MD\, 21044
ATTACH;FMTTYPE=image/png:https://brightmindsfoundation.org/wp-content/uploads/2023/04/June2023-Event-Frame-4×3-1.png
ORGANIZER;CN="Bright Minds Foundation":MAILTO:jennifer@brightmindsfoundation.org
END:VEVENT
BEGIN:VEVENT
DTSTART;TZID=America/New_York:20231107T073000
DTEND;TZID=America/New_York:20231107T100000
DTSTAMP:20260423T093403
CREATED:20231003T152817Z
LAST-MODIFIED:20231003T153223Z
UID:23672-1699342200-1699351200@brightmindsfoundation.org
SUMMARY:Breakfast with the Superintendent & HCPSS Showcase
DESCRIPTION:
URL:https://brightmindsfoundation.org/event/breakfast/
LOCATION:The Meeting House\, Oakland Mills Interfaith Center\, 5885 Robert Oliver Pl\, Columbia\, MD\, 21045
ATTACH;FMTTYPE=image/png:https://brightmindsfoundation.org/wp-content/uploads/2023/10/Breakfast-with-Superintendent-1280-×-720-3.png
ORGANIZER;CN="Bright Minds Foundation":MAILTO:jennifer@brightmindsfoundation.org
END:VEVENT
BEGIN:VEVENT
DTSTART;TZID=America/New_York:20231011T080000
DTEND;TZID=America/New_York:20231011T150000
DTSTAMP:20260423T093403
CREATED:20230414T140255Z
LAST-MODIFIED:20231003T151931Z
UID:23140-1697011200-1697036400@brightmindsfoundation.org
SUMMARY:2023 Bright Minds Golf Classic
DESCRIPTION:Please join us for the 10th annual Bright Minds Golf Classic on Wednesday October 11\, 2023!  \nBright Minds Golf Classic supports the work of Bright Minds Foundation\, the Howard County public schools education foundation. Proceeds support Bright Minds’ programs focused on literacy and kindergarten readiness; access to learning and digital inclusion; college access and student scholarships; and classroom innovation and teacher support. \nREGISTER HERE \nEvent Details\nWhen: Wednesday\, October 11\, 2023\nTime: Driving range opens at 7:30am; shotgun start at 9am\nWhere: Waverly Woods Golf Club\, Marriottsville\, Maryland \n\nWe look forward to seeing you at the 2023 Golf Classic!
URL:https://brightmindsfoundation.org/event/golf-classic-2023/
LOCATION:Waverly Woods Golf Club\, 2100 Warwick Way\, Marriottsville\, MD\, 21104\, United States
ATTACH;FMTTYPE=image/jpeg:https://brightmindsfoundation.org/wp-content/uploads/2022/05/2021-10-06-Bright-Minds-Golf-_V4A9687-scaled-e1654984108772.jpg
ORGANIZER;CN="Bright Minds Foundation":MAILTO:jennifer@brightmindsfoundation.org
END:VEVENT
BEGIN:VEVENT
DTSTART;TZID=America/New_York:20230626T180000
DTEND;TZID=America/New_York:20230626T203000
DTSTAMP:20260423T093403
CREATED:20230414T141845Z
LAST-MODIFIED:20230520T014447Z
UID:23145-1687802400-1687811400@brightmindsfoundation.org
SUMMARY:Bright Minds Bright Futures 2023
DESCRIPTION:
URL:https://brightmindsfoundation.org/event/bright-futures-2023/
LOCATION:Cured 18th & 21st\, 10980 Grantchester Way\, Columbia\, MD\, 21044
ATTACH;FMTTYPE=image/png:https://brightmindsfoundation.org/wp-content/uploads/2023/04/June2023-Event-Frame-4×3-1.png
ORGANIZER;CN="Bright Minds Foundation":MAILTO:jennifer@brightmindsfoundation.org
END:VEVENT
BEGIN:VEVENT
DTSTART;TZID=America/New_York:20221012T080000
DTEND;TZID=America/New_York:20221012T140000
DTSTAMP:20260423T093403
CREATED:20220510T162128Z
LAST-MODIFIED:20220922T151240Z
UID:21355-1665561600-1665583200@brightmindsfoundation.org
SUMMARY:2022 Bright Minds Golf Classic
DESCRIPTION:Please join us for the ninth annual Bright Minds Golf Classic on Wednesday October 12\, 2022!  \nBright Minds Golf Classic supports the work of Bright Minds Foundation\, the Howard County public schools education foundation. Proceeds support Bright Minds’ programs focused on access to learning and digital inclusion; literacy and kindergarten readiness; student scholarships and college access; and classroom innovation and teacher support. \nREGISTER HERE \nThank you to the following event sponsors: Compass Real Estate (title sponsor)\, APT Healthcare\, Chesapeake Corporate Advisors\, DDC Engineering\, Kahlert Foundation\, Offit Kurman\, Private Wealth Partners\, PSA Insurance & Financial Services\, UHY LLP\, UnitedHealthcare\, Wealthspire\, and Williamsburg Homes. \nWe are still seeking a few Master sponsors\, tee sponors\, and one end-of-round snack sponsor. Click here to learn more about sponsorship opportunities. Please contact Jennifer Van Kirk at the email below with interest or questions. \nEvent Details\nWhen: Wednesday\, October 12\, 2022\nTime: Driving range opens at 7:30am; shotgun start at 9am\nWhere: Waverly Woods Golf Club\, Marriottsville\, Maryland \n\nWe look forward to seeing you at the 2022 Golf Classic!
URL:https://brightmindsfoundation.org/event/golf-classic-2022/
LOCATION:Waverly Woods Golf Club\, 2100 Warwick Way\, Marriottsville\, MD\, 21104\, United States
ATTACH;FMTTYPE=image/png:https://brightmindsfoundation.org/wp-content/uploads/2022/05/2022-Golf-Classic-Website-Image-v1.png
ORGANIZER;CN="Bright Minds Foundation":MAILTO:jennifer@brightmindsfoundation.org
END:VEVENT
BEGIN:VEVENT
DTSTART;TZID=UTC:20211006T073000
DTEND;TZID=UTC:20211006T140000
DTSTAMP:20260423T093403
CREATED:20210712T185722Z
LAST-MODIFIED:20220510T160926Z
UID:21262-1633505400-1633528800@brightmindsfoundation.org
SUMMARY:2021 Bright Minds Golf Classic
DESCRIPTION:EVENT IS CURRENTLY FULL. THANK YOU FOR YOUR SUPPORT!\nPlease join us for the seventh annual Bright Minds Golf Classic on October 6\, 2021!  \nThe Classic supports the work of Bright Minds Foundation\, the Howard County public schools educational foundation. Proceeds support Bright Minds’ programs\, including the Access to Learning Fund which provided more than 30\,000 critical remote learning resources to Howard County students over the last year. Proceeds also support Bright Minds’ programs focused on literacy and kindergarten readiness; student scholarships and college access; and classroom innovation and teacher support. \nEvent Details\nWhen: Wednesday\, October 6\, 2021\nTime: Driving range opens at 7:30am; shotgun start at 9am\nWhere: Waverly Woods Golf Club\, Marriottsville\, Maryland \nIf you have already registered and need payment instructions or to send in your player names\, please contact jennifer@brightmindsfoundation.org. \nWe look forward to seeing you at the Golf Classic!
URL:https://brightmindsfoundation.org/event/golf-classic-2021/
LOCATION:Waverly Woods Golf Club\, 2100 Warwick Way\, Marriottsville\, MD\, 21104\, United States
ATTACH;FMTTYPE=image/jpeg:https://brightmindsfoundation.org/wp-content/uploads/2021/07/Copy-of-Golf-Classic-Website-Image.jpg
ORGANIZER;CN="Bright Minds Foundation":MAILTO:jennifer@brightmindsfoundation.org
END:VEVENT
BEGIN:VEVENT
DTSTART;TZID=UTC:20201007T073000
DTEND;TZID=UTC:20201007T140000
DTSTAMP:20260423T093403
CREATED:20200616T203211Z
LAST-MODIFIED:20210704T014902Z
UID:18999-1602055800-1602079200@brightmindsfoundation.org
SUMMARY:2020 Bright Minds Foundation Golf Classic
DESCRIPTION:2020 Golf Classic Scoreboard\n  \nJoin us for the 2020 Bright Minds Foundation Golf Classic on October 7\, 2020. The Classic supports the work of Bright Minds Foundation\, the official educational foundation of the Howard County Public School System. \nIt is an enjoyable day for the players! \nProceeds from the Classic support the programs of Bright Minds including the Access to Learning Fund which provides critical education access supports for HCPSS student during the extended corona virus school closure. Educational supports include: assistive technology\, internet connectivity resources\, online memberships\, printed materials\, and mailing costs. \nEvent Schedule\n7:30am Driving Range Opens and Breakfast Available \n9:00am Shotgun Start \n3:00pm Event Concludes \n5:00pm Virtual Announcement
URL:https://brightmindsfoundation.org/event/2020-bright-minds-golf-classic/
LOCATION:Waverly Woods Golf Club\, 2100 Warwick Way\, Marriottsville\, MD\, 21104\, United States
ATTACH;FMTTYPE=image/jpeg:https://brightmindsfoundation.org/wp-content/uploads/2020/06/2019-10-02-Bright-Minds-Golf-AG6I8357-scaled-e1592330315722.jpg
ORGANIZER;CN="Bright Minds Foundation":MAILTO:jennifer@brightmindsfoundation.org
END:VEVENT
BEGIN:VEVENT
DTSTART;TZID=UTC:20200601T190000
DTEND;TZID=UTC:20200601T210000
DTSTAMP:20260423T093403
CREATED:20181204T195045Z
LAST-MODIFIED:20200331T184559Z
UID:17156-1591038000-1591045200@brightmindsfoundation.org
SUMMARY:2020 Strutting with the Staff
DESCRIPTION:Event Update: The 2020 Strutting with the Staff Event will be canceled. We appreciate your enthusiasm for this event and look forward to it Spring 2021.\nBright Minds Foundation\, Howard County Public Schools Educational Foundation\, is once again hosting its popular Strutting with the Staff Dance Contest on March 31\, 2020\, 7:00 PM at the Jim Rouse Theater at Wilde Lake High School. This is a fun filled evening with Howard County Public School System teachers\, staff\, students and community members. \nThe Dance Teams will compete for the coveted Mirror Ball trophy and other trophies in the following categories: \n\nGrand Champion – Overall Winner\n1st Runner Up\n2nd Runner Up\n3rd Runner Up\nMost Creative\n\nTrophies are awarded based on a combination of scores from judges’ choice\, audience vote winner\, and most money raised. \n \nClick here to learn about sponsorship opportunities \nSupport the teams today! \nBurleigh Manor Middle School \nFulton Elementary School \nHammond High School \nHammond Middle School \nHomewood Center \nOakland Mills High School \nRiver Hill High School \nWilde Lake High School
URL:https://brightmindsfoundation.org/event/2020-strutting-with-the-staff/
LOCATION:Jim Rouse Theatre and Performing Arts Center\, 5460 Trumpeter Road\, Columbia\, MD\, 21044\, United States
ATTACH;FMTTYPE=image/jpeg:https://brightmindsfoundation.org/wp-content/uploads/2018/12/Calkins-Emily-Strutting-72dpi-20-e1585665947113.jpg
ORGANIZER;CN="Bright Minds Foundation":MAILTO:jennifer@brightmindsfoundation.org
END:VEVENT
BEGIN:VEVENT
DTSTART;TZID=UTC:20200505T183000
DTEND;TZID=UTC:20200505T183000
DTSTAMP:20260423T093403
CREATED:20181204T201156Z
LAST-MODIFIED:20200327T161357Z
UID:17164-1588703400-1588703400@brightmindsfoundation.org
SUMMARY:2020 Night of Honor
DESCRIPTION:Event Update: The 2020 Nigh of Honor event will be postponed to Fall 2020.\nIn partnership with Howard County Public School System Bright Minds will host the 2020 Night of Honor to recognize outstanding HCPSS teachers\, staff and alumni. \nThe Work Hard Be Kind Outstanding Alumni Award celebrates alumni who have achieved the highest level of professional or academic accomplishment and demonstrated service to the Howard County community. Nomination form coming soon. \nTickets for the event will go on sale in March 2020. \nNominations Open! Work Hard Be Kind Outstanding Alumni Award – Applications due by March 6\, 2020
URL:https://brightmindsfoundation.org/event/2020-night-of-honor/
LOCATION:Oakland Mills High School\, 9410 Kilimanjaro Rd\, Columbia\, MD\, 21045\, United States
ATTACH;FMTTYPE=image/jpeg:https://brightmindsfoundation.org/wp-content/uploads/2018/12/2019-night-of-honor_47953987827_o.jpg
ORGANIZER;CN="Bright Minds Foundation":MAILTO:jennifer@brightmindsfoundation.org
END:VEVENT
BEGIN:VEVENT
DTSTART;TZID=UTC:20200116T073000
DTEND;TZID=UTC:20200116T093000
DTSTAMP:20260423T093403
CREATED:20181218T061353Z
LAST-MODIFIED:20201111T223512Z
UID:17758-1579159800-1579167000@brightmindsfoundation.org
SUMMARY:2019-2020 State of the Howard County Public Schools
DESCRIPTION:Please join Bright Minds Foundation and the Howard County Public School System (HCPSS) as Superintendent Michael J. Martirano\, Ed.D.\, presents the State of the Howard County Public School System on Thursday\, January 16\, 2020. This event is presented by Comcast. \nNetworking and breakfast: 7:30am \nProgram: 8-9:30am \nDr. Martirano will provide an overview of school system progress and challenges and share his priorities. \nLearn about Bright Minds – Computers for Students program and how it helps to bridge the homework gap for HCPSS students. \nThis event is an excellent opportunity to engage with the Superintendent\, school system leaders\, and colleagues and neighbors from around the county. \nAll proceeds from this event will benefit the programs of the Bright Minds Foundation. Bright Minds enhances the education opportunities of all Howard County public school students by bringing together private and community support for academic initiatives and opportunities. \nRegister Today!  \nSponsorship Opportunities Available
URL:https://brightmindsfoundation.org/event/state-of-schools-2020/
LOCATION:The Meeting House\, Oakland Mills Interfaith Center\, 5885 Robert Oliver Pl\, Columbia\, MD\, 21045
ATTACH;FMTTYPE=image/jpeg:https://brightmindsfoundation.org/wp-content/uploads/2018/12/2018-09-12-State-of-the-Schools-AG6I9888-75-1-e1572285399265.jpg
ORGANIZER;CN="Bright Minds Foundation":MAILTO:jennifer@brightmindsfoundation.org
END:VEVENT
BEGIN:VEVENT
DTSTART;TZID=UTC:20191002T073000
DTEND;TZID=UTC:20191002T140000
DTSTAMP:20260423T093403
CREATED:20181218T063105Z
LAST-MODIFIED:20190729T224013Z
UID:17760-1570001400-1570024800@brightmindsfoundation.org
SUMMARY:2019 Bright Minds Foundation Golf Classic
DESCRIPTION:Please join us for the 2019 Bright Minds Foundation Golf Classic on October 2\, 2019. The Classic supports the work of Bright Minds Foundation\, the official educational foundation of the Howard County Public School System. \nRegister today! \nSponsorship Details
URL:https://brightmindsfoundation.org/event/bright-minds-golf-classic/
LOCATION:Waverly Woods Golf Club\, 2100 Warwick Way\, Marriottsville\, MD\, 21104\, United States
ATTACH;FMTTYPE=image/jpeg:https://brightmindsfoundation.org/wp-content/uploads/2018/12/IMG_0877-e1557946414851.jpg
ORGANIZER;CN="Bright Minds Foundation":MAILTO:jennifer@brightmindsfoundation.org
END:VEVENT
END:VCALENDAR